BEGIN:VCALENDAR
VERSION:2.0
PRODID:-//Fair Work Center - ECPv6.3.1//NONSGML v1.0//EN
CALSCALE:GREGORIAN
METHOD:PUBLISH
X-WR-CALNAME:Fair Work Center
X-ORIGINAL-URL:https://www.fairworkcenter.org
X-WR-CALDESC:Events for Fair Work Center
REFRESH-INTERVAL;VALUE=DURATION:PT1H
X-Robots-Tag:noindex
X-PUBLISHED-TTL:PT1H
BEGIN:VTIMEZONE
TZID:UTC
BEGIN:STANDARD
TZOFFSETFROM:+0000
TZOFFSETTO:+0000
TZNAME:UTC
DTSTART:20260101T000000
END:STANDARD
END:VTIMEZONE
BEGIN:VEVENT
DTSTART;TZID=UTC:20260423T183000
DTEND;TZID=UTC:20260423T203000
DTSTAMP:20260423T020007
CREATED:20260403T005433Z
LAST-MODIFIED:20260403T005454Z
UID:3854-1776969000-1776976200@www.fairworkcenter.org
SUMMARY:Celebration For Winning A Statewide Domestic Workers Bill Of Rights
DESCRIPTION:SAVE THE DATE \nIf you supported the domestic workers campaign this year or last year\, YOU’RE INVITED TO JOIN THE CELEBRATION OF THIS HISTORIC VICTORY. \nTogether\, we are finally ending the unjust exclusion of domestic workers from core workplace protections. Whether you messaged your legislators\, signed in “pro” for a committee hearing\, submitted testimony\, made phone calls\, or joined a rally\, you helped build worker power to make this win possible. Now that the state legislature has voted yes on HB 2355 and the governor has signed it into law\, it is time to party! The celebration will be in Seattle. Stay tuned for more details!
URL:https://www.fairworkcenter.org/event/celebration-for-winning-a-statewide-domestic-workers-bill-of-rights/
END:VEVENT
END:VCALENDAR