BEGIN:VCALENDAR
VERSION:2.0
PRODID:-//Fair Work Center - ECPv6.3.1//NONSGML v1.0//EN
CALSCALE:GREGORIAN
METHOD:PUBLISH
X-WR-CALNAME:Fair Work Center
X-ORIGINAL-URL:https://www.fairworkcenter.org
X-WR-CALDESC:Events for Fair Work Center
REFRESH-INTERVAL;VALUE=DURATION:PT1H
X-Robots-Tag:noindex
X-PUBLISHED-TTL:PT1H
BEGIN:VTIMEZONE
TZID:UTC
BEGIN:STANDARD
TZOFFSETFROM:+0000
TZOFFSETTO:+0000
TZNAME:UTC
DTSTART:20260101T000000
END:STANDARD
END:VTIMEZONE
BEGIN:VEVENT
DTSTART;TZID=UTC:20260420T180000
DTEND;TZID=UTC:20260420T193000
DTSTAMP:20260420T014237
CREATED:20260406T234419Z
LAST-MODIFIED:20260406T234441Z
UID:3871-1776708000-1776713400@www.fairworkcenter.org
SUMMARY:ICE Out: Training for Workplace Safety & Solidarity
DESCRIPTION:Register at/Regístrate en: https://tr.ee/HuRhi051p1 \n(Español abajo) If ICE agents show up at work\, it can be scary\, but it is important to remember that workers can build power to protect ourselves and coworkers when we know our rights! Join us on Monday\, April 20th\, for a training on workplace safety & solidarity. \nYour workplace may have a sign saying “All are welcome except ICE\,” and that’s great! But while a sign shows solidarity\, it isn’t enough to keep each other safe. \nWorkers have protections against unreasonable searches and seizures under the 4th Amendment. \nCome and learn about this and other rights\, and discuss strategies to keep each other safe by organizing a shared plan. Then\, you will have the tools to make a plan to protect yourself and your coworkers if ICE attempts to enter your workplace. \nFuera ICE! Entrenamiento Para Seguridad En El Trabajo Y Solidaridad \nSi agentes de ICE llegan a tu trabajo\, puede dar miedo\, pero es importante recordar que los trabajadores podemos construir poder para protegernos a nosotros y a nuestros compañeros cuando conocemos nuestros derechos. ¡Únete el lunes 20 de abril a una capacitación sobre seguridad en el trabajo y solidaridad! \nTu lugar de trabajo puede tener un letrero que diga “Todos son bienvenidos excepto ICE\,” ¡y eso es excelente! Pero aunque un letrero muestra solidaridad\, no es suficiente para mantenernos seguros. \nLos trabajadores tenemos protecciones contra pesquisas y aprehensiones arbitrarias bajo la Cuarta Enmienda de la Constitución de los EE.UU.. \nVen a aprender sobre este y otros derechos\, y a conversar sobre estrategias para mantenernos seguros organizando un plan en conjunto. Después\, tendrás las herramientas para hacer un plan para protegerte a ti y a tus compañeros si ICE intenta entrar a tu lugar de trabajo.
URL:https://www.fairworkcenter.org/event/ice-out-training-for-workplace-safety-solidarity/
END:VEVENT
END:VCALENDAR